BEGIN:VCALENDAR
VERSION:2.0
PRODID:-//Svenska Alliansmissionen - ECPv6.15.0.1//NONSGML v1.0//EN
CALSCALE:GREGORIAN
METHOD:PUBLISH
X-WR-CALNAME:Svenska Alliansmissionen
X-ORIGINAL-URL:https://alliansmissionen.se
X-WR-CALDESC:Händelser för Svenska Alliansmissionen
REFRESH-INTERVAL;VALUE=DURATION:PT1H
X-Robots-Tag:noindex
X-PUBLISHED-TTL:PT1H
BEGIN:VTIMEZONE
TZID:Europe/Stockholm
BEGIN:DAYLIGHT
TZOFFSETFROM:+0100
TZOFFSETTO:+0200
TZNAME:CEST
DTSTART:20260329T010000
END:DAYLIGHT
BEGIN:STANDARD
TZOFFSETFROM:+0200
TZOFFSETTO:+0100
TZNAME:CET
DTSTART:20261025T010000
END:STANDARD
END:VTIMEZONE
BEGIN:VEVENT
DTSTART;TZID=Europe/Stockholm:20260427T183000
DTEND;TZID=Europe/Stockholm:20260427T210000
DTSTAMP:20260424T142832
CREATED:20260302T134104Z
LAST-MODIFIED:20260302T134754Z
UID:16243-1777314600-1777323600@alliansmissionen.se
SUMMARY:Träff om SAM:s löne­administration
DESCRIPTION:Välkommen till Svenska Alliansmissionen för att prata om löneadministration och tidsredovisning.\n\nVi vill träffa dig som redan är lönekund hos oss och dig som är intresserad av att få hjälp med löneadministration. Vi kommer att informera om hur vi arbetar och du får möjlighet att ställa frågor.\n\nAnnika Oskarsson\, Inger Julsgård\, Hanna Willermark och Ulf Häggquist håller i träffen. Vi bjuder på fika.\n\n\nAnmäl dig senast den 20 april (namn och organisation samt ev. uppgift om specialkost) till inger.julsgard@alliansmissionen.se
URL:https://alliansmissionen.se/kalender/traff-om-sams-loneadministration/
LOCATION:Svenska Alliansmissionen\, Västra Storgatan 14\, Jönköping\, Sverige
CATEGORIES:SAM-träffar
END:VEVENT
BEGIN:VEVENT
DTSTART;TZID=Europe/Stockholm:20260508T080000
DTEND;TZID=Europe/Stockholm:20260510T170000
DTSTAMP:20260424T142832
CREATED:20250821T083426Z
LAST-MODIFIED:20250821T083426Z
UID:15709-1778227200-1778432400@alliansmissionen.se
SUMMARY:Växtverk steg III
DESCRIPTION:Ledarutbildning i tre steg för dig som är född 2010 eller tidigare och är ledare inom UV-scout. \nI steg III får du lära dig använda dina kunskaper i praktiken. Vi lever friluftsliv\, lagar all mat över öppen eld eller på friluftskök och är ute hela dagarna och nätterna. Här sover vi i vindskydd. \nMER INFO SAMT ANMÄLAN >
URL:https://alliansmissionen.se/kalender/vaxtverk-steg-iii-2/
LOCATION:Klinta\, Bottnaryd
CATEGORIES:SAU,Utbildningar och kurser
ATTACH;FMTTYPE=image/png:https://alliansmissionen.se/wp-content/uploads/2021/11/vaxtverk_logo_svart.png
END:VEVENT
BEGIN:VEVENT
DTSTART;VALUE=DATE:20260514
DTEND;VALUE=DATE:20260518
DTSTAMP:20260424T142832
CREATED:20251209T100015Z
LAST-MODIFIED:20260223T123937Z
UID:16121-1778716800-1779062399@alliansmissionen.se
SUMMARY:Årskonferensen 2026
DESCRIPTION:Välkommen till SAM och SAU:s Årskonferens 2026! \nHÄR HITTAR DU MER INFORMATION OM KONFERENSEN > \nSidan fylls på efterhand.
URL:https://alliansmissionen.se/kalender/arskonferensen-2026/
LOCATION:Gullbrannagården
CATEGORIES:Internationellt,Nationellt,SAM-träffar,SAU
ATTACH;FMTTYPE=image/jpeg:https://alliansmissionen.se/wp-content/uploads/2025/12/logg_ak_595_px.jpg
END:VEVENT
BEGIN:VEVENT
DTSTART;TZID=Europe/Stockholm:20260527T180000
DTEND;TZID=Europe/Stockholm:20260527T210000
DTSTAMP:20260424T142832
CREATED:20260114T100032Z
LAST-MODIFIED:20260114T100032Z
UID:16145-1779904800-1779915600@alliansmissionen.se
SUMMARY:SAM-styrelsen
DESCRIPTION:
URL:https://alliansmissionen.se/kalender/sam-styrelsen-18/
CATEGORIES:Styrelser och råd
ATTACH;FMTTYPE=image/png:https://alliansmissionen.se/wp-content/uploads/2018/07/styrelsemote.png
END:VEVENT
BEGIN:VEVENT
DTSTART;TZID=Europe/Stockholm:20260527T183000
DTEND;TZID=Europe/Stockholm:20260527T210000
DTSTAMP:20260424T142832
CREATED:20260413T131946Z
LAST-MODIFIED:20260417T084548Z
UID:16340-1779906600-1779915600@alliansmissionen.se
SUMMARY:Mediekväll med Daniel Grahn
DESCRIPTION:Media – vän eller fiende? \nVälkommen till en kväll där vi får hjälp att förstå hur media fungerar och hur vi kan möta journalister på ett klokt sätt. \nDaniel Grahn är journalist och konsult. Under kvällen delar han med sig av kunskap om medielogik\, intervjuer och hur vi kan hantera både risker och möjligheter i mötet med media. \nDet blir undervisning\, samtal och möjlighet att ställa frågor. \nKvällen riktar sig främst till ordförande och pastorer. Det finns möjlighet att ta med ytterligare någon hos er som har en aktiv roll vid kriser eller i kontakt med media. Vi ser helst att ni är på plats\, men det går att vara med digitalt om man har långt att åka.  \nAnmäl er via formuläret nedan senast 20 maj. \nVarmt välkommen! \n\n\n\n                \n                        Namn*\n                            \n                            \n                                                    \n                                                    Förnamn\n                                                \n                            \n                            \n                                                    \n                                                    Efternamn\n                                                \n                            \n                        Kvällen riktar sig främst till församlingens ordförande och pastor. Anmäl er gärna tillsammans.Namn\n                            \n                            \n                                                    \n                                                    Förnamn\n                                                \n                            \n                            \n                                                    \n                                                    Efternamn\n                                                \n                            \n                        Namn\n                            \n                            \n                                                    \n                                                    Förnamn\n                                                \n                            \n                            \n                                                    \n                                                    Efternamn\n                                                \n                            \n                        Församling*Deltar...*\n			\n				\n				på plats i Vaggeryd\n			\n			\n				\n				via Teams\n			Vi ser helst att ni deltar på plats i Vaggeryd. Men möjlighet finns att vara med digitalt via TEAMS. Vi behöver då en aktuell mailadress. Länk till samlingen kommer att skickas till den mailadress som anges nedan. I annat fall kan detta fält lämnas tomt.E-post*\n                                \n                                    \n                                    Ange E-post\n                                \n                                \n                                    \n                                    Bekräfta E-post\n                                \n                                \n                            Eventuell specialkostPersonuppgifter*Med anmälan godkänner du att dina personuppgifter sparas av centralorganisationen SAM i syfte att fullfölja arrangemanget. För mer information kring hur vi hanterar personuppgifter\, se vår integritetspolicy.\n								\n								Jag har tagit del av informationen
URL:https://alliansmissionen.se/kalender/mediakvall-med-daniel-grahn/
LOCATION:Betelkyrkan Vaggeryd\, Sveavägen 11\, Vaggeryd\, 567 32
ATTACH;FMTTYPE=image/png:https://alliansmissionen.se/wp-content/uploads/2026/04/mediatraning.png
END:VEVENT
BEGIN:VEVENT
DTSTART;VALUE=DATE:20260623
DTEND;VALUE=DATE:20260629
DTSTAMP:20260424T142832
CREATED:20260401T114334Z
LAST-MODIFIED:20260401T114334Z
UID:16322-1782172800-1782691199@alliansmissionen.se
SUMMARY:reTRO 2026
DESCRIPTION:TRO – då\, nu och för alltid \nVar sjunde år slår UV-scouts nio lägerområden sig samman och har storläger. I år är det återigen dags. \nHÄR HITTAR DU ALLT DU BEHÖVER VETA INFÖR ÅRETS LÄGER >
URL:https://alliansmissionen.se/kalender/retro-2026/
LOCATION:Bjädesjö Säteri
CATEGORIES:Internationellt,Läger,SAU
ATTACH;FMTTYPE=image/jpeg:https://alliansmissionen.se/wp-content/uploads/2026/04/retro.jpg
END:VEVENT
BEGIN:VEVENT
DTSTART;VALUE=DATE:20260702
DTEND;VALUE=DATE:20260706
DTSTAMP:20260424T142832
CREATED:20260312T132802Z
LAST-MODIFIED:20260312T132840Z
UID:16259-1782950400-1783295999@alliansmissionen.se
SUMMARY:Gullbrannafestivalen
DESCRIPTION:Välkommen till Gullbrannafestivalen!\nUnder ledorden Musik – Möte – Mission har otaliga konserter\, samlingar och happenings samlat tusentals människor genom åren och sommaren 2026 arrangerar vi Gullbrannafestivalen för 26:e gången. Vi envisas med att påstå att GF är sommarenens höjdpunkt\, du är välkommen dit! \nVår djupa längtan är att GF ska få vara en festival där musiken är fantastisk\, där människor möter både Gud och varandra och där våra liv berörs av Guds stora hjärta för alla människor\, nära och långt borta. \nMER INFO SAMT BILJETTER >
URL:https://alliansmissionen.se/kalender/gullbrannafestivalen-7/
LOCATION:Gullbrannagården
CATEGORIES:Internationellt,Musik,Nationellt,SAU
ATTACH;FMTTYPE=image/jpeg:https://alliansmissionen.se/wp-content/uploads/2026/03/GF_2026.jpg
END:VEVENT
BEGIN:VEVENT
DTSTART;VALUE=DATE:20260905
DTEND;VALUE=DATE:20260907
DTSTAMP:20260424T142832
CREATED:20260114T100303Z
LAST-MODIFIED:20260114T100303Z
UID:16153-1788566400-1788739199@alliansmissionen.se
SUMMARY:Styrelsedagar SAM & SAU
DESCRIPTION:
URL:https://alliansmissionen.se/kalender/styrelsedagar-sam-sau/
LOCATION:Gullbrannagården
CATEGORIES:Styrelser och råd
ATTACH;FMTTYPE=image/png:https://alliansmissionen.se/wp-content/uploads/2017/09/styrelsen.png
END:VEVENT
BEGIN:VEVENT
DTSTART;TZID=Europe/Stockholm:20261017T093000
DTEND;TZID=Europe/Stockholm:20261018T150000
DTSTAMP:20260424T142832
CREATED:20260120T131242Z
LAST-MODIFIED:20260318T084853Z
UID:16163-1792229400-1792335600@alliansmissionen.se
SUMMARY:Församlingshelg på Gullbrannagården
DESCRIPTION:En helg skräddarsydd för mindre församlingar som längtar efter gemenskap och andlig förnyelse. \nLängtar ni efter en församlingshelg\, men saknar tid eller ork att ordna allt själva? Då är SAM:s församlingshelg på Gullbrannagården något för er. Här får ni kliva rakt in i en helg där gemenskapen redan väntar. Boende\, mat och inspirerande samlingar finns på plats. Ni kommer som ni är\, resten har vi förberett. \nDet blir dagar fyllda av varm och livgivande gemenskap\, både i den egna församlingen och tillsammans med andra. Här blir det enkelt att mötas\, samtala och känna sig hemma i en rofylld miljö. \nGenom gudstjänster\, storsamlingar\, panelsamtal och workshops får ni mod och inspiration att se de möjligheter som finns i mindre församlingar. Vi tänker tillsammans\, delar erfarenheter och upptäcker vad som kan växa när vi vågar tro på det lilla. Samtidigt finns gott om tid för det som bygger relationer: måltider\, samtal\, skratt och kvällshäng där gemenskapen ofta fördjupas. \nDet här är en helg där ni får känna er välkomna\, inspirerade och uppmuntrade. En helg som ger energi\, hopp och framtidstro — och som vi formar tillsammans! \nTema: Kraften i den mindre församlingen – Guds möjligheter \nMedverkande: Ulf Häggqvist\, Anna Ahlström\, Esgrim Rommel\, Henrik Lundström med flera \nMålgrupp:  Mindre församlingar (max 70 medlemmar) \n  \nSchema för helgen\nLördag \n09.30–10.00 Ankomst & frallfika\n10.00–10.45 Välkomstsamling\n11.00–12.00 Seminarium         *(Preliminärt kl 11-12.00: Barnaktivitet och tonårshäng parallellt.)\n12.00–13.00 Lunchgemenskap med den egna församlingen\n13.00–15.00 Workshops\n15.00–15.45 Fika\n15.45–17.45 Egen församlingstid   *(Preliminärt kl 15.45-17.45: Barnaktiviteter och tonårshäng paralellt.)\n18.00–19.00 Middag\n19.00–20.30 Lovsångsgudstjänst\n20.45–21.45 Kvällshäng med kvällsmacka & musikquiz\n21.50–22.00 Aftonbön \nSöndag \n07.40–08.00 Morgonbön (frivillig)\n08.00–09.30 Frukost\n09.30–10.30 Packning & städning/återlämning av nyckel\n10.30–12.00 Gudstjänst\n12.00–13.00 Lunchgemenskap med den egna församlingen\n13.00–13.45 Seminarium     *(Preliminärt kl 13.00-13.45. Barnaktivitet och tonårshäng parallellt.)\n13.45–14.15 Egen församlingstid\n14.15–15.00 Avslutningshälsning & fika\n15.00              Hemfärd \n  \nPris per deltagare:\n\nVuxen (17+): 1.044 kr\nUngdom (13–16 år): 981 kr\nBarn (4–12 år): 666 kr\nBarn (0–3 år): gratis\n\nPriserna gäller boende i flerbäddsrum/stuga samt måltider lördag–söndag.\nEnkelrum i Bojen kan erbjudas i mån av plats: +199 kr/natt. \nObs! För varje bokning/faktura tillkommer en administrationsavgift på 150:- \nMedtag egna handdukar och sängkläder (möjlighet finns att hyra av Gullbrannagården).\nIncheckning i receptionen vid ankomst.\nStädning ombesörjs av samtliga deltagare på församlingshelgen. \n  \nOBS! Anmälan till helgen sker direkt till Gullbrannagården.\n \nMail: info@gullbrannagarden.se\nTelefon: 035 – 241 21 00 \nI anmälan ange namn och adress dit faktura skall ställas. \n\nFörsamling du tillhör\nMailadress\nTelefon\nVilka du önskar bo med\nEv specialkost\n\nFamiljer anmäler sig tillsammans. Ange då också: \n\nNamn på samtliga familjemedlemmer\nÅlder på barnen\n\n  \nFrågor?\nFör frågor som rör boende\, mat mm\, kontakta Gullbrannagården: info@gullbrannagarden.se \nFör frågor gällande program\, innehåll mm\, kontakta: esgrim.rommel@alliansmissionen.se \nBokningar tas emot löpande enligt först till kvarn. \nObs! Sista anmälningsdag är 31 augusti.
URL:https://alliansmissionen.se/kalender/forsamlingshelg-pa-gullbrannagarden-2/
LOCATION:Gullbrannagården
CATEGORIES:Läger,Nationellt
ATTACH;FMTTYPE=image/jpeg:https://alliansmissionen.se/wp-content/uploads/2024/01/forsamlingshelg_595.jpg
END:VEVENT
END:VCALENDAR